BEGIN:VCALENDAR
VERSION:2.0
PRODID:-//Ayroop - ECPv4.9.9//NONSGML v1.0//EN
CALSCALE:GREGORIAN
METHOD:PUBLISH
X-WR-CALNAME:Ayroop
X-ORIGINAL-URL:https://www.ay-roop.com
X-WR-CALDESC:évènements pour Ayroop
BEGIN:VTIMEZONE
TZID:Europe/Paris
BEGIN:DAYLIGHT
TZOFFSETFROM:+0100
TZOFFSETTO:+0200
TZNAME:CEST
DTSTART:20210328T010000
END:DAYLIGHT
BEGIN:STANDARD
TZOFFSETFROM:+0200
TZOFFSETTO:+0100
TZNAME:CET
DTSTART:20211031T010000
END:STANDARD
END:VTIMEZONE
BEGIN:VEVENT
DTSTART;VALUE=DATE:20210316
DTEND;VALUE=DATE:20210317
DTSTAMP:20260424T025748
CREATED:20170201T103858Z
LAST-MODIFIED:20200529T140556Z
UID:11406-1615852800-1615939199@www.ay-roop.com
SUMMARY:Evidences Inconnues
DESCRIPTION:
URL:https://www.ay-roop.com/spectacle/evidences-inconnues-carros/
LOCATION:Carros (06)\, France
CATEGORIES:kurt évidences
END:VEVENT
END:VCALENDAR