BEGIN:VCALENDAR
VERSION:2.0
PRODID:-//Ayroop - ECPv4.9.9//NONSGML v1.0//EN
CALSCALE:GREGORIAN
METHOD:PUBLISH
X-WR-CALNAME:Ayroop
X-ORIGINAL-URL:https://www.ay-roop.com
X-WR-CALDESC:évènements pour Ayroop
BEGIN:VTIMEZONE
TZID:Europe/Paris
BEGIN:DAYLIGHT
TZOFFSETFROM:+0100
TZOFFSETTO:+0200
TZNAME:CEST
DTSTART:20220327T010000
END:DAYLIGHT
BEGIN:STANDARD
TZOFFSETFROM:+0200
TZOFFSETTO:+0100
TZNAME:CET
DTSTART:20221030T010000
END:STANDARD
END:VTIMEZONE
BEGIN:VEVENT
DTSTART;TZID=Europe/Paris:20220316T000000
DTEND;TZID=Europe/Paris:20220327T235959
DTSTAMP:20260424T034355
CREATED:20210721T090820Z
LAST-MODIFIED:20210721T090821Z
UID:13144-1647388800-1648425599@www.ay-roop.com
SUMMARY:Projet Fantôme
DESCRIPTION:\n\n\nCie Monstre(s) / Etienne Saglio \n\n\n\n\n\n\n\n\n\n\n
URL:https://www.ay-roop.com/spectacle/projet-fantome-2021-03-16/
LOCATION:Vitré\, 35\, France
CATEGORIES:saglio fantomes
END:VEVENT
END:VCALENDAR