BEGIN:VCALENDAR
VERSION:2.0
PRODID:-//Ayroop - ECPv4.9.9//NONSGML v1.0//EN
CALSCALE:GREGORIAN
METHOD:PUBLISH
X-WR-CALNAME:Ayroop
X-ORIGINAL-URL:https://www.ay-roop.com
X-WR-CALDESC:évènements pour Ayroop
BEGIN:VTIMEZONE
TZID:Europe/Paris
BEGIN:DAYLIGHT
TZOFFSETFROM:+0100
TZOFFSETTO:+0200
TZNAME:CEST
DTSTART:20240331T010000
END:DAYLIGHT
BEGIN:STANDARD
TZOFFSETFROM:+0200
TZOFFSETTO:+0100
TZNAME:CET
DTSTART:20241027T010000
END:STANDARD
END:VTIMEZONE
BEGIN:VEVENT
DTSTART;TZID=Europe/Paris:20240921T000000
DTEND;TZID=Europe/Paris:20240922T235959
DTSTAMP:20260424T031916
CREATED:20240603T124929Z
LAST-MODIFIED:20240603T124931Z
UID:20118-1726876800-1727049599@www.ay-roop.com
SUMMARY:Un dîner pour 1
DESCRIPTION:\n\n\n \n\n\n\n\n\n\n\n\n\n\n
URL:https://www.ay-roop.com/spectacle/un-diner-pour-1-saluxleschartreux/
LOCATION:Saulx-Lès-Chartreux (91)
CATEGORIES:P'tit Cirk Un dîner pour 1
END:VEVENT
END:VCALENDAR